{
 "currentVersion": 10.81,
 "cimVersion": "2.6.0",
 "serviceDescription": "",
 "mapName": "Layers",
 "description": "",
 "copyrightText": "",
 "supportsDynamicLayers": true,
 "layers": [
  {
   "id": 1,
   "name": "9,000 & <",
   "parentLayerId": -1,
   "defaultVisibility": true,
   "subLayerIds": [
    2,
    8,
    9,
    10,
    11
   ],
   "minScale": 9000,
   "maxScale": 0,
   "type": "Group Layer",
   "supportsDynamicLegends": false
  },
  {
   "id": 2,
   "name": "Structures and Transportation",
   "parentLayerId": 1,
   "defaultVisibility": true,
   "subLayerIds": [
    3,
    4,
    5,
    6,
    7
   ],
   "minScale": 0,
   "maxScale": 0,
   "type": "Group Layer",
   "supportsDynamicLegends": false
  },
  {
   "id": 3,
   "name": "Fence",
   "parentLayerId": 2,
   "defaultVisibility": true,
   "subLayerIds": null,
   "minScale": 0,
   "maxScale": 0,
   "type": "Feature Layer",
   "geometryType": "esriGeometryPolyline",
   "supportsDynamicLegends": true
  },
  {
   "id": 4,
   "name": "Building",
   "parentLayerId": 2,
   "defaultVisibility": true,
   "subLayerIds": null,
   "minScale": 0,
   "maxScale": 0,
   "type": "Feature Layer",
   "geometryType": "esriGeometryPolygon",
   "supportsDynamicLegends": true
  },
  {
   "id": 5,
   "name": "ParkingLot",
   "parentLayerId": 2,
   "defaultVisibility": true,
   "subLayerIds": null,
   "minScale": 0,
   "maxScale": 0,
   "type": "Feature Layer",
   "geometryType": "esriGeometryPolygon",
   "supportsDynamicLegends": true
  },
  {
   "id": 6,
   "name": "DrivewayArea",
   "parentLayerId": 2,
   "defaultVisibility": true,
   "subLayerIds": null,
   "minScale": 0,
   "maxScale": 0,
   "type": "Feature Layer",
   "geometryType": "esriGeometryPolygon",
   "supportsDynamicLegends": true
  },
  {
   "id": 7,
   "name": "RoadSegment",
   "parentLayerId": 2,
   "defaultVisibility": true,
   "subLayerIds": null,
   "minScale": 0,
   "maxScale": 0,
   "type": "Feature Layer",
   "geometryType": "esriGeometryPolygon",
   "supportsDynamicLegends": true
  },
  {
   "id": 10,
   "name": "MarkingArea",
   "parentLayerId": 1,
   "defaultVisibility": true,
   "subLayerIds": null,
   "minScale": 600,
   "maxScale": 0,
   "type": "Feature Layer",
   "geometryType": "esriGeometryPolygon",
   "supportsDynamicLegends": true
  },
  {
   "id": 11,
   "name": "MarkingArea",
   "parentLayerId": 1,
   "defaultVisibility": true,
   "subLayerIds": null,
   "minScale": 0,
   "maxScale": 0,
   "type": "Feature Layer",
   "geometryType": "esriGeometryPolygon",
   "supportsDynamicLegends": true
  },
  {
   "id": 12,
   "name": "24,000 - 9001",
   "parentLayerId": -1,
   "defaultVisibility": true,
   "subLayerIds": [
    13
   ],
   "minScale": 24000,
   "maxScale": 9001,
   "type": "Group Layer",
   "supportsDynamicLegends": false
  },
  {
   "id": 13,
   "name": "Structures and Transportation",
   "parentLayerId": 12,
   "defaultVisibility": true,
   "subLayerIds": [
    14,
    15,
    16,
    17
   ],
   "minScale": 0,
   "maxScale": 0,
   "type": "Group Layer",
   "supportsDynamicLegends": false
  },
  {
   "id": 14,
   "name": "Building",
   "parentLayerId": 13,
   "defaultVisibility": true,
   "subLayerIds": null,
   "minScale": 0,
   "maxScale": 0,
   "type": "Feature Layer",
   "geometryType": "esriGeometryPolygon",
   "supportsDynamicLegends": true
  },
  {
   "id": 15,
   "name": "ParkingLot",
   "parentLayerId": 13,
   "defaultVisibility": true,
   "subLayerIds": null,
   "minScale": 0,
   "maxScale": 0,
   "type": "Feature Layer",
   "geometryType": "esriGeometryPolygon",
   "supportsDynamicLegends": true
  },
  {
   "id": 16,
   "name": "DrivewayArea",
   "parentLayerId": 13,
   "defaultVisibility": true,
   "subLayerIds": null,
   "minScale": 0,
   "maxScale": 0,
   "type": "Feature Layer",
   "geometryType": "esriGeometryPolygon",
   "supportsDynamicLegends": true
  },
  {
   "id": 17,
   "name": "RoadSegment",
   "parentLayerId": 13,
   "defaultVisibility": true,
   "subLayerIds": null,
   "minScale": 0,
   "maxScale": 0,
   "type": "Feature Layer",
   "geometryType": "esriGeometryPolygon",
   "supportsDynamicLegends": true
  },
  {
   "id": 18,
   "name": "36,000 - 24,001",
   "parentLayerId": -1,
   "defaultVisibility": true,
   "subLayerIds": [
    19
   ],
   "minScale": 0,
   "maxScale": 24001,
   "type": "Group Layer",
   "supportsDynamicLegends": false
  },
  {
   "id": 19,
   "name": "Structures and Transportation",
   "parentLayerId": 18,
   "defaultVisibility": true,
   "subLayerIds": [
    20,
    21,
    22,
    23
   ],
   "minScale": 0,
   "maxScale": 0,
   "type": "Group Layer",
   "supportsDynamicLegends": false
  },
  {
   "id": 20,
   "name": "Building",
   "parentLayerId": 19,
   "defaultVisibility": true,
   "subLayerIds": null,
   "minScale": 0,
   "maxScale": 0,
   "type": "Feature Layer",
   "geometryType": "esriGeometryPolygon",
   "supportsDynamicLegends": true
  },
  {
   "id": 21,
   "name": "ParkingLot",
   "parentLayerId": 19,
   "defaultVisibility": true,
   "subLayerIds": null,
   "minScale": 0,
   "maxScale": 0,
   "type": "Feature Layer",
   "geometryType": "esriGeometryPolygon",
   "supportsDynamicLegends": true
  },
  {
   "id": 22,
   "name": "DrivewayArea",
   "parentLayerId": 19,
   "defaultVisibility": true,
   "subLayerIds": null,
   "minScale": 0,
   "maxScale": 0,
   "type": "Feature Layer",
   "geometryType": "esriGeometryPolygon",
   "supportsDynamicLegends": true
  },
  {
   "id": 23,
   "name": "RoadSegment",
   "parentLayerId": 19,
   "defaultVisibility": true,
   "subLayerIds": null,
   "minScale": 0,
   "maxScale": 0,
   "type": "Feature Layer",
   "geometryType": "esriGeometryPolygon",
   "supportsDynamicLegends": true
  },
  {
   "id": 24,
   "name": "Structures and Transportation",
   "parentLayerId": -1,
   "defaultVisibility": true,
   "subLayerIds": [
    25,
    26,
    27,
    28
   ],
   "minScale": 0,
   "maxScale": 0,
   "type": "Group Layer",
   "supportsDynamicLegends": false
  },
  {
   "id": 25,
   "name": "RailroadCenterline",
   "parentLayerId": 24,
   "defaultVisibility": true,
   "subLayerIds": null,
   "minScale": 0,
   "maxScale": 0,
   "type": "Feature Layer",
   "geometryType": "esriGeometryPolyline",
   "supportsDynamicLegends": true
  },
  {
   "id": 26,
   "name": "Building",
   "parentLayerId": 24,
   "defaultVisibility": true,
   "subLayerIds": null,
   "minScale": 0,
   "maxScale": 0,
   "type": "Feature Layer",
   "geometryType": "esriGeometryPolygon",
   "supportsDynamicLegends": true
  },
  {
   "id": 27,
   "name": "ParkingLot",
   "parentLayerId": 24,
   "defaultVisibility": true,
   "subLayerIds": null,
   "minScale": 0,
   "maxScale": 0,
   "type": "Feature Layer",
   "geometryType": "esriGeometryPolygon",
   "supportsDynamicLegends": true
  },
  {
   "id": 28,
   "name": "DrivewayArea",
   "parentLayerId": 24,
   "defaultVisibility": true,
   "subLayerIds": null,
   "minScale": 0,
   "maxScale": 0,
   "type": "Feature Layer",
   "geometryType": "esriGeometryPolygon",
   "supportsDynamicLegends": true
  },
  {
   "id": 29,
   "name": "Pavement",
   "parentLayerId": -1,
   "defaultVisibility": true,
   "subLayerIds": [
    30,
    31,
    32,
    33,
    34,
    35,
    36,
    37,
    38
   ],
   "minScale": 0,
   "maxScale": 0,
   "type": "Group Layer",
   "supportsDynamicLegends": false
  },
  {
   "id": 30,
   "name": "TaxiwayIntersection",
   "parentLayerId": 29,
   "defaultVisibility": true,
   "subLayerIds": null,
   "minScale": 0,
   "maxScale": 0,
   "type": "Feature Layer",
   "geometryType": "esriGeometryPolygon",
   "supportsDynamicLegends": true
  },
  {
   "id": 31,
   "name": "Apron",
   "parentLayerId": 29,
   "defaultVisibility": true,
   "subLayerIds": null,
   "minScale": 0,
   "maxScale": 0,
   "type": "Feature Layer",
   "geometryType": "esriGeometryPolygon",
   "supportsDynamicLegends": true
  },
  {
   "id": 32,
   "name": "RunwayBlastPad",
   "parentLayerId": 29,
   "defaultVisibility": true,
   "subLayerIds": null,
   "minScale": 0,
   "maxScale": 0,
   "type": "Feature Layer",
   "geometryType": "esriGeometryPolygon",
   "supportsDynamicLegends": true
  },
  {
   "id": 33,
   "name": "DeicingArea",
   "parentLayerId": 29,
   "defaultVisibility": true,
   "subLayerIds": null,
   "minScale": 0,
   "maxScale": 0,
   "type": "Feature Layer",
   "geometryType": "esriGeometryPolygon",
   "supportsDynamicLegends": true
  },
  {
   "id": 34,
   "name": "Shoulder",
   "parentLayerId": 29,
   "defaultVisibility": true,
   "subLayerIds": null,
   "minScale": 0,
   "maxScale": 0,
   "type": "Feature Layer",
   "geometryType": "esriGeometryPolygon",
   "supportsDynamicLegends": true
  },
  {
   "id": 35,
   "name": "TouchdownLiftOff",
   "parentLayerId": 29,
   "defaultVisibility": true,
   "subLayerIds": null,
   "minScale": 0,
   "maxScale": 0,
   "type": "Feature Layer",
   "geometryType": "esriGeometryPolygon",
   "supportsDynamicLegends": true
  },
  {
   "id": 36,
   "name": "TaxiwayElement",
   "parentLayerId": 29,
   "defaultVisibility": true,
   "subLayerIds": null,
   "minScale": 0,
   "maxScale": 0,
   "type": "Feature Layer",
   "geometryType": "esriGeometryPolygon",
   "supportsDynamicLegends": true
  },
  {
   "id": 37,
   "name": "Runway",
   "parentLayerId": 29,
   "defaultVisibility": true,
   "subLayerIds": null,
   "minScale": 0,
   "maxScale": 0,
   "type": "Feature Layer",
   "geometryType": "esriGeometryPolygon",
   "supportsDynamicLegends": true
  },
  {
   "id": 38,
   "name": "RunwayElement",
   "parentLayerId": 29,
   "defaultVisibility": true,
   "subLayerIds": null,
   "minScale": 0,
   "maxScale": 0,
   "type": "Feature Layer",
   "geometryType": "esriGeometryPolygon",
   "supportsDynamicLegends": true
  },
  {
   "id": 39,
   "name": "Environmental",
   "parentLayerId": -1,
   "defaultVisibility": true,
   "subLayerIds": [
    40,
    41,
    42,
    43
   ],
   "minScale": 0,
   "maxScale": 0,
   "type": "Group Layer",
   "supportsDynamicLegends": false
  },
  {
   "id": 40,
   "name": "BACoStreams",
   "parentLayerId": 39,
   "defaultVisibility": true,
   "subLayerIds": null,
   "minScale": 0,
   "maxScale": 0,
   "type": "Feature Layer",
   "geometryType": "esriGeometryPolyline",
   "supportsDynamicLegends": true
  },
  {
   "id": 41,
   "name": "BACoOpenWater",
   "parentLayerId": 39,
   "defaultVisibility": true,
   "subLayerIds": null,
   "minScale": 0,
   "maxScale": 0,
   "type": "Feature Layer",
   "geometryType": "esriGeometryPolygon",
   "supportsDynamicLegends": true
  },
  {
   "id": 42,
   "name": "Shoreline",
   "parentLayerId": 39,
   "defaultVisibility": true,
   "subLayerIds": null,
   "minScale": 0,
   "maxScale": 0,
   "type": "Feature Layer",
   "geometryType": "esriGeometryPolygon",
   "supportsDynamicLegends": true
  },
  {
   "id": 43,
   "name": "ForestStandArea",
   "parentLayerId": 39,
   "defaultVisibility": true,
   "subLayerIds": null,
   "minScale": 0,
   "maxScale": 0,
   "type": "Feature Layer",
   "geometryType": "esriGeometryPolygon",
   "supportsDynamicLegends": true
  },
  {
   "id": 44,
   "name": "BasemapBackground",
   "parentLayerId": -1,
   "defaultVisibility": true,
   "subLayerIds": null,
   "minScale": 0,
   "maxScale": 0,
   "type": "Feature Layer",
   "geometryType": "esriGeometryPolygon",
   "supportsDynamicLegends": true
  },
  {
   "id": 45,
   "name": "9,000 & <",
   "parentLayerId": -1,
   "defaultVisibility": true,
   "subLayerIds": [
    46
   ],
   "minScale": 9000,
   "maxScale": 0,
   "type": "Group Layer",
   "supportsDynamicLegends": false
  },
  {
   "id": 46,
   "name": "Structures and Transportation",
   "parentLayerId": 45,
   "defaultVisibility": true,
   "subLayerIds": [],
   "minScale": 0,
   "maxScale": 0,
   "type": "Group Layer",
   "supportsDynamicLegends": false
  },
  {
   "id": 47,
   "name": "24,000 - 9001",
   "parentLayerId": -1,
   "defaultVisibility": true,
   "subLayerIds": [
    48
   ],
   "minScale": 24000,
   "maxScale": 9001,
   "type": "Group Layer",
   "supportsDynamicLegends": false
  },
  {
   "id": 48,
   "name": "Structures and Transportation",
   "parentLayerId": 47,
   "defaultVisibility": true,
   "subLayerIds": [],
   "minScale": 0,
   "maxScale": 0,
   "type": "Group Layer",
   "supportsDynamicLegends": false
  },
  {
   "id": 49,
   "name": "36,000 - 24,001",
   "parentLayerId": -1,
   "defaultVisibility": true,
   "subLayerIds": [
    50
   ],
   "minScale": 0,
   "maxScale": 24001,
   "type": "Group Layer",
   "supportsDynamicLegends": false
  },
  {
   "id": 50,
   "name": "Structures and Transportation",
   "parentLayerId": 49,
   "defaultVisibility": true,
   "subLayerIds": [],
   "minScale": 0,
   "maxScale": 0,
   "type": "Group Layer",
   "supportsDynamicLegends": false
  },
  {
   "id": 51,
   "name": "Structures and Transportation",
   "parentLayerId": -1,
   "defaultVisibility": true,
   "subLayerIds": [],
   "minScale": 0,
   "maxScale": 0,
   "type": "Group Layer",
   "supportsDynamicLegends": false
  },
  {
   "id": 52,
   "name": "Pavement",
   "parentLayerId": -1,
   "defaultVisibility": true,
   "subLayerIds": [],
   "minScale": 0,
   "maxScale": 0,
   "type": "Group Layer",
   "supportsDynamicLegends": false
  },
  {
   "id": 53,
   "name": "Environmental",
   "parentLayerId": -1,
   "defaultVisibility": true,
   "subLayerIds": [],
   "minScale": 0,
   "maxScale": 0,
   "type": "Group Layer",
   "supportsDynamicLegends": false
  }
 ],
 "tables": [],
 "spatialReference": {
  "wkid": 102685,
  "latestWkid": 2248,
  "vcsWkid": 105703,
  "latestVcsWkid": 6360,
  "xyTolerance": 0.003280833333333333,
  "zTolerance": 0.003280833333333333,
  "mTolerance": 0.001,
  "falseX": -1.3274803090285496E8,
  "falseY": -1.0391608914041099E8,
  "xyUnits": 3.359381912043763E7,
  "falseZ": -100000,
  "zUnits": 3048.006096012192,
  "falseM": -100000,
  "mUnits": 10000
 },
 "singleFusedMapCache": true,
 "tileInfo": {
  "rows": 256,
  "cols": 256,
  "dpi": 96,
  "format": "PNG",
  "compressionQuality": 75,
  "origin": {
   "x": -1.3274803090285435E8,
   "y": 1.642046393319654E8
  },
  "spatialReference": {
   "wkid": 102685,
   "latestWkid": 2248,
   "vcsWkid": 105703,
   "latestVcsWkid": 6360,
   "xyTolerance": 0.003280833333333333,
   "zTolerance": 0.003280833333333333,
   "mTolerance": 0.001,
   "falseX": -1.3274803090285435E8,
   "falseY": -1.0391608914041002E8,
   "xyUnits": 3.359381912043778E7,
   "falseZ": -100000,
   "zUnits": 3048.0060960121923,
   "falseM": -100000,
   "mUnits": 10000
  },
  "lods": [
   {
    "level": 0,
    "resolution": 31.25,
    "scale": 36000
   },
   {
    "level": 1,
    "resolution": 20.833333333333332,
    "scale": 24000
   },
   {
    "level": 2,
    "resolution": 15.625,
    "scale": 18000
   },
   {
    "level": 3,
    "resolution": 7.8125,
    "scale": 9000
   },
   {
    "level": 4,
    "resolution": 3.9930555555555554,
    "scale": 4600
   },
   {
    "level": 5,
    "resolution": 2.083333333333333,
    "scale": 2400
   },
   {
    "level": 6,
    "resolution": 1.0416666666666665,
    "scale": 1200
   },
   {
    "level": 7,
    "resolution": 0.5208333333333333,
    "scale": 600
   },
   {
    "level": 8,
    "resolution": 0.26041666666666663,
    "scale": 300
   },
   {
    "level": 9,
    "resolution": 0.13020833333333331,
    "scale": 150
   },
   {
    "level": 10,
    "resolution": 0.06510416666666666,
    "scale": 75
   }
  ]
 },
 "initialExtent": {
  "xmin": 1451319.0398334477,
  "ymin": 589778.419570802,
  "xmax": 1502695.1707140265,
  "ymax": 616215.919570802,
  "spatialReference": {
   "wkid": 102685,
   "latestWkid": 2248,
   "vcsWkid": 105703,
   "latestVcsWkid": 6360,
   "xyTolerance": 0.003280833333333333,
   "zTolerance": 0.003280833333333333,
   "mTolerance": 0.001,
   "falseX": -1.3274803090285496E8,
   "falseY": -1.0391608914041099E8,
   "xyUnits": 3.359381912043763E7,
   "falseZ": -100000,
   "zUnits": 3048.006096012192,
   "falseM": -100000,
   "mUnits": 10000
  }
 },
 "fullExtent": {
  "xmin": 1458007.105273737,
  "ymin": 589778.419570802,
  "xmax": 1496007.105273737,
  "ymax": 616215.919570802,
  "spatialReference": {
   "wkid": 102685,
   "latestWkid": 2248,
   "vcsWkid": 105703,
   "latestVcsWkid": 6360,
   "xyTolerance": 0.003280833333333333,
   "zTolerance": 0.003280833333333333,
   "mTolerance": 0.001,
   "falseX": -1.3274803090285496E8,
   "falseY": -1.0391608914041099E8,
   "xyUnits": 3.359381912043763E7,
   "falseZ": -100000,
   "zUnits": 3048.006096012192,
   "falseM": -100000,
   "mUnits": 10000
  }
 },
 "minScale": 36000,
 "maxScale": 75,
 "units": "esriFeet",
 "supportedImageFormatTypes": "PNG32,PNG24,PNG,JPG,DIB,TIFF,EMF,PS,PDF,GIF,SVG,SVGZ,BMP",
 "documentInfo": {
  "Title": "Untitled.aprx",
  "Author": "",
  "Comments": "",
  "Subject": "MTN vector basemap deployed July 2017",
  "Category": "",
  "AntialiasingMode": "Best",
  "TextAntialiasingMode": "Force",
  "Keywords": ""
 },
 "supportsQueryDomains": true,
 "capabilities": "Map,Query,Data",
 "supportedQueryFormats": "JSON, geoJSON, PBF",
 "exportTilesAllowed": true,
 "maxExportTilesCount": 100000,
 "referenceScale": 0.0,
 "supportsDatumTransformation": true,
 "heightModelInfo": {
  "heightModel": "gravity_related_height",
  "vertCRS": "NAVD88_height_(ftUS)",
  "heightUnit": "us-foot"
 },
 "supportsVCSProjection": true,
 "archivingInfo": {
  "supportsHistoricMoment": false
 },
 "supportsClipping": true,
 "supportsSpatialFilter": true,
 "supportsQueryDataElements": true,
 "maxRecordCount": 1000,
 "maxImageHeight": 4096,
 "maxImageWidth": 4096,
 "supportedExtensions": ""
}
