{
 "currentVersion": 10.81,
 "serviceDescription": "MTN Imagery collected June 2021 flown and processed by AXIS Geospatial",
 "mapName": "Layers",
 "description": "",
 "copyrightText": "",
 "supportsDynamicLayers": true,
 "layers": [
  {
   "id": 0,
   "name": "21135-2101_MTN_SID_Mosaic.sid",
   "parentLayerId": -1,
   "defaultVisibility": true,
   "subLayerIds": null,
   "minScale": 0,
   "maxScale": 0,
   "type": "Raster Layer"
  }
 ],
 "tables": [],
 "spatialReference": {
  "wkid": 102685,
  "latestWkid": 2248
 },
 "singleFusedMapCache": true,
 "tileInfo": {
  "rows": 256,
  "cols": 256,
  "dpi": 96,
  "format": "JPEG",
  "compressionQuality": 55,
  "origin": {
   "x": -120561100,
   "y": 148302500
  },
  "spatialReference": {
   "wkid": 102685,
   "latestWkid": 2248
  },
  "lods": [
   {
    "level": 0,
    "resolution": 31.25,
    "scale": 36000
   },
   {
    "level": 1,
    "resolution": 20.833333333333332,
    "scale": 24000
   },
   {
    "level": 2,
    "resolution": 15.625,
    "scale": 18000
   },
   {
    "level": 3,
    "resolution": 7.8125,
    "scale": 9000
   },
   {
    "level": 4,
    "resolution": 3.9930555555555554,
    "scale": 4600
   },
   {
    "level": 5,
    "resolution": 2.083333333333333,
    "scale": 2400
   },
   {
    "level": 6,
    "resolution": 1.0416666666666665,
    "scale": 1200
   },
   {
    "level": 7,
    "resolution": 0.5208333333333333,
    "scale": 600
   },
   {
    "level": 8,
    "resolution": 0.26041666666666663,
    "scale": 300
   },
   {
    "level": 9,
    "resolution": 0.13020833333333331,
    "scale": 150
   },
   {
    "level": 10,
    "resolution": 0.06510416666666666,
    "scale": 75
   }
  ]
 },
 "initialExtent": {
  "xmin": 1458860.759493671,
  "ymin": 599696.2025316455,
  "xmax": 1495139.240506329,
  "ymax": 614000,
  "spatialReference": {
   "wkid": 102685,
   "latestWkid": 2248
  }
 },
 "fullExtent": {
  "xmin": 1465000,
  "ymin": 593000,
  "xmax": 1489000,
  "ymax": 613000,
  "spatialReference": {
   "wkid": 102685,
   "latestWkid": 2248
  }
 },
 "minScale": 36000,
 "maxScale": 75,
 "minLOD": 0,
 "maxLOD": 10,
 "units": "esriFeet",
 "supportedImageFormatTypes": "PNG32,PNG24,PNG,JPG,DIB,TIFF,EMF,PS,PDF,GIF,SVG,SVGZ,BMP",
 "documentInfo": {
  "Title": "",
  "Author": "",
  "Comments": "",
  "Subject": "",
  "Category": "",
  "AntialiasingMode": "None",
  "TextAntialiasingMode": "Force",
  "Keywords": ""
 },
 "capabilities": "Map,Query,Data",
 "supportedQueryFormats": "JSON, geoJSON",
 "exportTilesAllowed": false,
 "referenceScale": 0,
 "supportsDatumTransformation": true,
 "maxRecordCount": 1000,
 "maxImageHeight": 4096,
 "maxImageWidth": 4096,
 "supportedExtensions": ""
}
