{
 "currentVersion": 10.81,
 "cimVersion": "2.6.0",
 "serviceDescription": "",
 "mapName": "BWI_Base",
 "description": "BWI GIS Vector Basemap",
 "copyrightText": "",
 "supportsDynamicLayers": true,
 "layers": [
  {
   "id": 0,
   "name": "BaseMap_Labels",
   "parentLayerId": -1,
   "defaultVisibility": true,
   "subLayerIds": null,
   "minScale": 36000,
   "maxScale": 0,
   "type": "Feature Layer",
   "geometryType": "esriGeometryPoint",
   "supportsDynamicLegends": true
  },
  {
   "id": 1,
   "name": "600 & <",
   "parentLayerId": -1,
   "defaultVisibility": true,
   "subLayerIds": [
    2,
    8,
    9,
    10,
    11
   ],
   "minScale": 600,
   "maxScale": 0,
   "type": "Group Layer",
   "supportsDynamicLegends": false
  },
  {
   "id": 2,
   "name": "Structures and Transportation",
   "parentLayerId": 1,
   "defaultVisibility": true,
   "subLayerIds": [
    3,
    4,
    5,
    6,
    7
   ],
   "minScale": 0,
   "maxScale": 0,
   "type": "Group Layer",
   "supportsDynamicLegends": false
  },
  {
   "id": 3,
   "name": "Fence",
   "parentLayerId": 2,
   "defaultVisibility": true,
   "subLayerIds": null,
   "minScale": 0,
   "maxScale": 0,
   "type": "Feature Layer",
   "geometryType": "esriGeometryPolyline",
   "supportsDynamicLegends": true
  },
  {
   "id": 4,
   "name": "Building",
   "parentLayerId": 2,
   "defaultVisibility": true,
   "subLayerIds": null,
   "minScale": 0,
   "maxScale": 0,
   "type": "Feature Layer",
   "geometryType": "esriGeometryPolygon",
   "supportsDynamicLegends": true
  },
  {
   "id": 5,
   "name": "ParkingLot",
   "parentLayerId": 2,
   "defaultVisibility": true,
   "subLayerIds": null,
   "minScale": 0,
   "maxScale": 0,
   "type": "Feature Layer",
   "geometryType": "esriGeometryPolygon",
   "supportsDynamicLegends": true
  },
  {
   "id": 6,
   "name": "DrivewayArea",
   "parentLayerId": 2,
   "defaultVisibility": true,
   "subLayerIds": null,
   "minScale": 0,
   "maxScale": 0,
   "type": "Feature Layer",
   "geometryType": "esriGeometryPolygon",
   "supportsDynamicLegends": true
  },
  {
   "id": 7,
   "name": "RoadSegment",
   "parentLayerId": 2,
   "defaultVisibility": true,
   "subLayerIds": null,
   "minScale": 0,
   "maxScale": 0,
   "type": "Feature Layer",
   "geometryType": "esriGeometryPolygon",
   "supportsDynamicLegends": true
  },
  {
   "id": 8,
   "name": "MarkingLine",
   "parentLayerId": 1,
   "defaultVisibility": true,
   "subLayerIds": null,
   "minScale": 9000,
   "maxScale": 4601,
   "type": "Feature Layer",
   "geometryType": "esriGeometryPolyline",
   "supportsDynamicLegends": true
  },
  {
   "id": 9,
   "name": "MarkingLine",
   "parentLayerId": 1,
   "defaultVisibility": true,
   "subLayerIds": null,
   "minScale": 4600,
   "maxScale": 0,
   "type": "Feature Layer",
   "geometryType": "esriGeometryPolyline",
   "supportsDynamicLegends": true
  },
  {
   "id": 10,
   "name": "MarkingArea",
   "parentLayerId": 1,
   "defaultVisibility": true,
   "subLayerIds": null,
   "minScale": 1200,
   "maxScale": 0,
   "type": "Feature Layer",
   "geometryType": "esriGeometryPolygon",
   "supportsDynamicLegends": true
  },
  {
   "id": 11,
   "name": "MarkingArea",
   "parentLayerId": 1,
   "defaultVisibility": true,
   "subLayerIds": null,
   "minScale": 0,
   "maxScale": 0,
   "type": "Feature Layer",
   "geometryType": "esriGeometryPolygon",
   "supportsDynamicLegends": true
  },
  {
   "id": 12,
   "name": "9000 - 601",
   "parentLayerId": -1,
   "defaultVisibility": true,
   "subLayerIds": [
    13,
    19,
    20,
    21,
    22
   ],
   "minScale": 9000,
   "maxScale": 601,
   "type": "Group Layer",
   "supportsDynamicLegends": false
  },
  {
   "id": 13,
   "name": "Structures and Transportation",
   "parentLayerId": 12,
   "defaultVisibility": true,
   "subLayerIds": [
    14,
    15,
    16,
    17,
    18
   ],
   "minScale": 0,
   "maxScale": 0,
   "type": "Group Layer",
   "supportsDynamicLegends": false
  },
  {
   "id": 14,
   "name": "Fence",
   "parentLayerId": 13,
   "defaultVisibility": true,
   "subLayerIds": null,
   "minScale": 0,
   "maxScale": 0,
   "type": "Feature Layer",
   "geometryType": "esriGeometryPolyline",
   "supportsDynamicLegends": true
  },
  {
   "id": 15,
   "name": "Building",
   "parentLayerId": 13,
   "defaultVisibility": true,
   "subLayerIds": null,
   "minScale": 0,
   "maxScale": 0,
   "type": "Feature Layer",
   "geometryType": "esriGeometryPolygon",
   "supportsDynamicLegends": true
  },
  {
   "id": 16,
   "name": "ParkingLot",
   "parentLayerId": 13,
   "defaultVisibility": true,
   "subLayerIds": null,
   "minScale": 0,
   "maxScale": 0,
   "type": "Feature Layer",
   "geometryType": "esriGeometryPolygon",
   "supportsDynamicLegends": true
  },
  {
   "id": 17,
   "name": "DrivewayArea",
   "parentLayerId": 13,
   "defaultVisibility": true,
   "subLayerIds": null,
   "minScale": 0,
   "maxScale": 0,
   "type": "Feature Layer",
   "geometryType": "esriGeometryPolygon",
   "supportsDynamicLegends": true
  },
  {
   "id": 18,
   "name": "RoadSegment",
   "parentLayerId": 13,
   "defaultVisibility": true,
   "subLayerIds": null,
   "minScale": 0,
   "maxScale": 0,
   "type": "Feature Layer",
   "geometryType": "esriGeometryPolygon",
   "supportsDynamicLegends": true
  },
  {
   "id": 19,
   "name": "MarkingLine",
   "parentLayerId": 12,
   "defaultVisibility": true,
   "subLayerIds": null,
   "minScale": 9000,
   "maxScale": 4601,
   "type": "Feature Layer",
   "geometryType": "esriGeometryPolyline",
   "supportsDynamicLegends": true
  },
  {
   "id": 20,
   "name": "MarkingLine",
   "parentLayerId": 12,
   "defaultVisibility": true,
   "subLayerIds": null,
   "minScale": 4600,
   "maxScale": 0,
   "type": "Feature Layer",
   "geometryType": "esriGeometryPolyline",
   "supportsDynamicLegends": true
  },
  {
   "id": 21,
   "name": "MarkingArea",
   "parentLayerId": 12,
   "defaultVisibility": true,
   "subLayerIds": null,
   "minScale": 1200,
   "maxScale": 0,
   "type": "Feature Layer",
   "geometryType": "esriGeometryPolygon",
   "supportsDynamicLegends": true
  },
  {
   "id": 22,
   "name": "MarkingArea",
   "parentLayerId": 12,
   "defaultVisibility": true,
   "subLayerIds": null,
   "minScale": 0,
   "maxScale": 0,
   "type": "Feature Layer",
   "geometryType": "esriGeometryPolygon",
   "supportsDynamicLegends": true
  },
  {
   "id": 23,
   "name": "24,000 - 9001",
   "parentLayerId": -1,
   "defaultVisibility": true,
   "subLayerIds": [
    24
   ],
   "minScale": 24000,
   "maxScale": 9001,
   "type": "Group Layer",
   "supportsDynamicLegends": false
  },
  {
   "id": 24,
   "name": "Structures and Transportation",
   "parentLayerId": 23,
   "defaultVisibility": true,
   "subLayerIds": [
    25,
    26,
    27,
    28
   ],
   "minScale": 0,
   "maxScale": 0,
   "type": "Group Layer",
   "supportsDynamicLegends": false
  },
  {
   "id": 25,
   "name": "Building",
   "parentLayerId": 24,
   "defaultVisibility": true,
   "subLayerIds": null,
   "minScale": 0,
   "maxScale": 0,
   "type": "Feature Layer",
   "geometryType": "esriGeometryPolygon",
   "supportsDynamicLegends": true
  },
  {
   "id": 26,
   "name": "ParkingLot",
   "parentLayerId": 24,
   "defaultVisibility": true,
   "subLayerIds": null,
   "minScale": 0,
   "maxScale": 0,
   "type": "Feature Layer",
   "geometryType": "esriGeometryPolygon",
   "supportsDynamicLegends": true
  },
  {
   "id": 27,
   "name": "DrivewayArea",
   "parentLayerId": 24,
   "defaultVisibility": true,
   "subLayerIds": null,
   "minScale": 0,
   "maxScale": 0,
   "type": "Feature Layer",
   "geometryType": "esriGeometryPolygon",
   "supportsDynamicLegends": true
  },
  {
   "id": 28,
   "name": "RoadSegment",
   "parentLayerId": 24,
   "defaultVisibility": true,
   "subLayerIds": null,
   "minScale": 0,
   "maxScale": 0,
   "type": "Feature Layer",
   "geometryType": "esriGeometryPolygon",
   "supportsDynamicLegends": true
  },
  {
   "id": 29,
   "name": "36,000 - 24,001",
   "parentLayerId": -1,
   "defaultVisibility": true,
   "subLayerIds": [
    30
   ],
   "minScale": 0,
   "maxScale": 24001,
   "type": "Group Layer",
   "supportsDynamicLegends": false
  },
  {
   "id": 30,
   "name": "Structures and Transportation",
   "parentLayerId": 29,
   "defaultVisibility": true,
   "subLayerIds": [
    31,
    32,
    33,
    34
   ],
   "minScale": 0,
   "maxScale": 0,
   "type": "Group Layer",
   "supportsDynamicLegends": false
  },
  {
   "id": 31,
   "name": "Building",
   "parentLayerId": 30,
   "defaultVisibility": true,
   "subLayerIds": null,
   "minScale": 0,
   "maxScale": 0,
   "type": "Feature Layer",
   "geometryType": "esriGeometryPolygon",
   "supportsDynamicLegends": true
  },
  {
   "id": 32,
   "name": "ParkingLot",
   "parentLayerId": 30,
   "defaultVisibility": true,
   "subLayerIds": null,
   "minScale": 0,
   "maxScale": 0,
   "type": "Feature Layer",
   "geometryType": "esriGeometryPolygon",
   "supportsDynamicLegends": true
  },
  {
   "id": 33,
   "name": "DrivewayArea",
   "parentLayerId": 30,
   "defaultVisibility": true,
   "subLayerIds": null,
   "minScale": 0,
   "maxScale": 0,
   "type": "Feature Layer",
   "geometryType": "esriGeometryPolygon",
   "supportsDynamicLegends": true
  },
  {
   "id": 34,
   "name": "RoadSegment",
   "parentLayerId": 30,
   "defaultVisibility": true,
   "subLayerIds": null,
   "minScale": 0,
   "maxScale": 0,
   "type": "Feature Layer",
   "geometryType": "esriGeometryPolygon",
   "supportsDynamicLegends": true
  },
  {
   "id": 35,
   "name": "Structures and Transportation",
   "parentLayerId": -1,
   "defaultVisibility": true,
   "subLayerIds": [
    36,
    37,
    38,
    39
   ],
   "minScale": 0,
   "maxScale": 0,
   "type": "Group Layer",
   "supportsDynamicLegends": false
  },
  {
   "id": 36,
   "name": "RailroadCenterline",
   "parentLayerId": 35,
   "defaultVisibility": true,
   "subLayerIds": null,
   "minScale": 0,
   "maxScale": 0,
   "type": "Feature Layer",
   "geometryType": "esriGeometryPolyline",
   "supportsDynamicLegends": true
  },
  {
   "id": 37,
   "name": "Building",
   "parentLayerId": 35,
   "defaultVisibility": true,
   "subLayerIds": null,
   "minScale": 0,
   "maxScale": 0,
   "type": "Feature Layer",
   "geometryType": "esriGeometryPolygon",
   "supportsDynamicLegends": true
  },
  {
   "id": 38,
   "name": "ParkingLot",
   "parentLayerId": 35,
   "defaultVisibility": true,
   "subLayerIds": null,
   "minScale": 0,
   "maxScale": 0,
   "type": "Feature Layer",
   "geometryType": "esriGeometryPolygon",
   "supportsDynamicLegends": true
  },
  {
   "id": 39,
   "name": "DrivewayArea",
   "parentLayerId": 35,
   "defaultVisibility": true,
   "subLayerIds": null,
   "minScale": 0,
   "maxScale": 0,
   "type": "Feature Layer",
   "geometryType": "esriGeometryPolygon",
   "supportsDynamicLegends": true
  },
  {
   "id": 40,
   "name": "Pavement",
   "parentLayerId": -1,
   "defaultVisibility": true,
   "subLayerIds": [
    41,
    42,
    43,
    44,
    45,
    46,
    47,
    48
   ],
   "minScale": 0,
   "maxScale": 0,
   "type": "Group Layer",
   "supportsDynamicLegends": false
  },
  {
   "id": 41,
   "name": "TaxiwayIntersection",
   "parentLayerId": 40,
   "defaultVisibility": true,
   "subLayerIds": null,
   "minScale": 0,
   "maxScale": 0,
   "type": "Feature Layer",
   "geometryType": "esriGeometryPolygon",
   "supportsDynamicLegends": true
  },
  {
   "id": 42,
   "name": "Apron",
   "parentLayerId": 40,
   "defaultVisibility": true,
   "subLayerIds": null,
   "minScale": 0,
   "maxScale": 0,
   "type": "Feature Layer",
   "geometryType": "esriGeometryPolygon",
   "supportsDynamicLegends": true
  },
  {
   "id": 43,
   "name": "RunwayBlastPad",
   "parentLayerId": 40,
   "defaultVisibility": true,
   "subLayerIds": null,
   "minScale": 0,
   "maxScale": 0,
   "type": "Feature Layer",
   "geometryType": "esriGeometryPolygon",
   "supportsDynamicLegends": true
  },
  {
   "id": 44,
   "name": "DeicingArea",
   "parentLayerId": 40,
   "defaultVisibility": true,
   "subLayerIds": null,
   "minScale": 0,
   "maxScale": 0,
   "type": "Feature Layer",
   "geometryType": "esriGeometryPolygon",
   "supportsDynamicLegends": true
  },
  {
   "id": 45,
   "name": "Shoulder",
   "parentLayerId": 40,
   "defaultVisibility": true,
   "subLayerIds": null,
   "minScale": 0,
   "maxScale": 0,
   "type": "Feature Layer",
   "geometryType": "esriGeometryPolygon",
   "supportsDynamicLegends": true
  },
  {
   "id": 46,
   "name": "TaxiwayElement",
   "parentLayerId": 40,
   "defaultVisibility": true,
   "subLayerIds": null,
   "minScale": 0,
   "maxScale": 0,
   "type": "Feature Layer",
   "geometryType": "esriGeometryPolygon",
   "supportsDynamicLegends": true
  },
  {
   "id": 47,
   "name": "Runway",
   "parentLayerId": 40,
   "defaultVisibility": true,
   "subLayerIds": null,
   "minScale": 0,
   "maxScale": 0,
   "type": "Feature Layer",
   "geometryType": "esriGeometryPolygon",
   "supportsDynamicLegends": true
  },
  {
   "id": 48,
   "name": "RunwayElement",
   "parentLayerId": 40,
   "defaultVisibility": true,
   "subLayerIds": null,
   "minScale": 0,
   "maxScale": 0,
   "type": "Feature Layer",
   "geometryType": "esriGeometryPolygon",
   "supportsDynamicLegends": true
  },
  {
   "id": 49,
   "name": "Environmental",
   "parentLayerId": -1,
   "defaultVisibility": true,
   "subLayerIds": [
    50,
    51,
    52
   ],
   "minScale": 0,
   "maxScale": 0,
   "type": "Group Layer",
   "supportsDynamicLegends": false
  },
  {
   "id": 50,
   "name": "AACoStreams",
   "parentLayerId": 49,
   "defaultVisibility": true,
   "subLayerIds": null,
   "minScale": 0,
   "maxScale": 0,
   "type": "Feature Layer",
   "geometryType": "esriGeometryPolyline",
   "supportsDynamicLegends": true
  },
  {
   "id": 51,
   "name": "AACoOpenWater",
   "parentLayerId": 49,
   "defaultVisibility": true,
   "subLayerIds": null,
   "minScale": 0,
   "maxScale": 0,
   "type": "Feature Layer",
   "geometryType": "esriGeometryPolygon",
   "supportsDynamicLegends": true
  },
  {
   "id": 52,
   "name": "ForestStandArea",
   "parentLayerId": 49,
   "defaultVisibility": true,
   "subLayerIds": null,
   "minScale": 0,
   "maxScale": 0,
   "type": "Feature Layer",
   "geometryType": "esriGeometryPolygon",
   "supportsDynamicLegends": true
  },
  {
   "id": 53,
   "name": "BasemapBackground",
   "parentLayerId": -1,
   "defaultVisibility": true,
   "subLayerIds": null,
   "minScale": 0,
   "maxScale": 0,
   "type": "Feature Layer",
   "geometryType": "esriGeometryPolygon",
   "supportsDynamicLegends": true
  }
 ],
 "tables": [],
 "spatialReference": {
  "wkid": 102685,
  "latestWkid": 2248,
  "vcsWkid": 105703,
  "latestVcsWkid": 6360,
  "xyTolerance": 0.003280833333333333,
  "zTolerance": 0.003280833333333333,
  "mTolerance": 0.001,
  "falseX": -120561100,
  "falseY": -95444400,
  "xyUnits": 3.695308229454812E7,
  "falseZ": -100000,
  "zUnits": 3048.006096012192,
  "falseM": -100000,
  "mUnits": 10000
 },
 "singleFusedMapCache": true,
 "tileInfo": {
  "rows": 256,
  "cols": 256,
  "dpi": 96,
  "format": "PNG",
  "compressionQuality": 0,
  "origin": {
   "x": -1.3274803090285435E8,
   "y": 1.642046393319654E8
  },
  "spatialReference": {
   "wkid": 102685,
   "latestWkid": 2248,
   "vcsWkid": 105703,
   "latestVcsWkid": 6360,
   "xyTolerance": 0.003280833333333333,
   "zTolerance": 0.001,
   "mTolerance": 0.001,
   "falseX": -120561100,
   "falseY": -95444400,
   "xyUnits": 3048.0060960121928,
   "falseZ": -100000,
   "zUnits": 10000,
   "falseM": -100000,
   "mUnits": 10000
  },
  "lods": [
   {
    "level": 0,
    "resolution": 31.25,
    "scale": 36000
   },
   {
    "level": 1,
    "resolution": 20.833333333333332,
    "scale": 24000
   },
   {
    "level": 2,
    "resolution": 15.625,
    "scale": 18000
   },
   {
    "level": 3,
    "resolution": 7.8125,
    "scale": 9000
   },
   {
    "level": 4,
    "resolution": 3.9930555555555554,
    "scale": 4600
   },
   {
    "level": 5,
    "resolution": 2.083333333333333,
    "scale": 2400
   },
   {
    "level": 6,
    "resolution": 1.0416666666666665,
    "scale": 1200
   },
   {
    "level": 7,
    "resolution": 0.5208333333333333,
    "scale": 600
   },
   {
    "level": 8,
    "resolution": 0.26041666666666663,
    "scale": 300
   },
   {
    "level": 9,
    "resolution": 0.13020833333333331,
    "scale": 150
   },
   {
    "level": 10,
    "resolution": 0.06510416666666666,
    "scale": 75
   }
  ]
 },
 "initialExtent": {
  "xmin": 1375233.7091357645,
  "ymin": 539156.8429391992,
  "xmax": 1434796.2091357654,
  "ymax": 564469.3429391996,
  "spatialReference": {
   "wkid": 102685,
   "latestWkid": 2248,
   "vcsWkid": 105703,
   "latestVcsWkid": 6360,
   "xyTolerance": 0.003280833333333333,
   "zTolerance": 0.003280833333333333,
   "mTolerance": 0.001,
   "falseX": -120561100,
   "falseY": -95444400,
   "xyUnits": 3.695308229454812E7,
   "falseZ": -100000,
   "zUnits": 3048.006096012192,
   "falseM": -100000,
   "mUnits": 10000
  }
 },
 "fullExtent": {
  "xmin": 1389529.79953003,
  "ymin": 536188.125305174,
  "xmax": 1421748.54953003,
  "ymax": 562531.875305173,
  "spatialReference": {
   "wkid": 102685,
   "latestWkid": 2248,
   "vcsWkid": 105703,
   "latestVcsWkid": 6360,
   "xyTolerance": 0.003280833333333333,
   "zTolerance": 0.003280833333333333,
   "mTolerance": 0.001,
   "falseX": -120561100,
   "falseY": -95444400,
   "xyUnits": 3.695308229454812E7,
   "falseZ": -100000,
   "zUnits": 3048.006096012192,
   "falseM": -100000,
   "mUnits": 10000
  }
 },
 "minScale": 66947.00435108959,
 "maxScale": 130.75586787322186,
 "units": "esriFeet",
 "supportedImageFormatTypes": "PNG32,PNG24,PNG,JPG,DIB,TIFF,EMF,PS,PDF,GIF,SVG,SVGZ,BMP",
 "documentInfo": {
  "Title": "MyProject.aprx",
  "Author": "",
  "Comments": "BWI GIS Vector Basemap",
  "Subject": "BWI GIS Vector Basemap",
  "Category": "",
  "AntialiasingMode": "Fast",
  "TextAntialiasingMode": "Force",
  "Keywords": "BWI"
 },
 "supportsQueryDomains": true,
 "capabilities": "Query,Map,Data",
 "supportedQueryFormats": "JSON, geoJSON, PBF",
 "exportTilesAllowed": true,
 "maxExportTilesCount": 100000,
 "referenceScale": 0.0,
 "datumTransformations": [
  {
   "geoTransforms": [
    {
     "wkid": 108190,
     "latestWkid": 108190,
     "transformForward": true,
     "name": "WGS_1984_(ITRF00)_To_NAD_1983"
    }
   ]
  },
  {
   "geoTransforms": [
    {
     "wkid": 108190,
     "latestWkid": 108190,
     "transformForward": false,
     "name": "WGS_1984_(ITRF00)_To_NAD_1983"
    }
   ]
  }
 ],
 "supportsDatumTransformation": true,
 "heightModelInfo": {
  "heightModel": "gravity_related_height",
  "vertCRS": "NAVD88_height_(ftUS)",
  "heightUnit": "us-foot"
 },
 "supportsVCSProjection": true,
 "archivingInfo": {
  "supportsHistoricMoment": false
 },
 "supportsClipping": true,
 "supportsSpatialFilter": true,
 "supportsQueryDataElements": true,
 "maxRecordCount": 1000,
 "maxImageHeight": 4096,
 "maxImageWidth": 4096,
 "supportedExtensions": ""
}
