{
 "currentVersion": 10.81,
 "serviceDescription": "BWI 3in imagery flown and produced by Quantum Spatial Nov 2018",
 "mapName": "Layers",
 "description": "",
 "copyrightText": "",
 "supportsDynamicLayers": false,
 "layers": [
  {
   "id": 1330922322,
   "name": "BWI_2018_Quarter_FT",
   "parentLayerId": -1,
   "defaultVisibility": true,
   "subLayerIds": [
    1330922323,
    1330922324,
    1330922325,
    1330922326
   ],
   "minScale": 0,
   "maxScale": 0,
   "type": "Mosaic Layer"
  },
  {
   "id": 1330922323,
   "name": "Boundary",
   "parentLayerId": 1330922322,
   "defaultVisibility": false,
   "subLayerIds": null,
   "minScale": 0,
   "maxScale": 0,
   "type": "Feature Layer",
   "geometryType": "esriGeometryPolygon"
  },
  {
   "id": 1330922324,
   "name": "Footprint",
   "parentLayerId": 1330922322,
   "defaultVisibility": false,
   "subLayerIds": null,
   "minScale": 0,
   "maxScale": 0,
   "type": "Feature Layer",
   "geometryType": "esriGeometryPolygon"
  },
  {
   "id": 1330922325,
   "name": "Seamline",
   "parentLayerId": 1330922322,
   "defaultVisibility": false,
   "subLayerIds": null,
   "minScale": 0,
   "maxScale": 0,
   "type": "Feature Layer",
   "geometryType": "esriGeometryPolygon"
  },
  {
   "id": 1330922326,
   "name": "Image",
   "parentLayerId": 1330922322,
   "defaultVisibility": true,
   "subLayerIds": null,
   "minScale": 0,
   "maxScale": 0,
   "type": "Raster Layer"
  }
 ],
 "tables": [],
 "spatialReference": {
  "wkid": 102685,
  "latestWkid": 2248
 },
 "singleFusedMapCache": true,
 "tileInfo": {
  "rows": 256,
  "cols": 256,
  "dpi": 96,
  "format": "JPEG",
  "compressionQuality": 55,
  "origin": {
   "x": -120561100,
   "y": 148302500
  },
  "spatialReference": {
   "wkid": 102685,
   "latestWkid": 2248
  },
  "lods": [
   {
    "level": 0,
    "resolution": 31.25,
    "scale": 36000
   },
   {
    "level": 1,
    "resolution": 20.833333333333332,
    "scale": 24000
   },
   {
    "level": 2,
    "resolution": 15.625,
    "scale": 18000
   },
   {
    "level": 3,
    "resolution": 7.8125,
    "scale": 9000
   },
   {
    "level": 4,
    "resolution": 3.9930555555555554,
    "scale": 4600
   },
   {
    "level": 5,
    "resolution": 2.083333333333333,
    "scale": 2400
   },
   {
    "level": 6,
    "resolution": 1.0416666666666665,
    "scale": 1200
   },
   {
    "level": 7,
    "resolution": 0.5208333333333333,
    "scale": 600
   },
   {
    "level": 8,
    "resolution": 0.26041666666666663,
    "scale": 300
   },
   {
    "level": 9,
    "resolution": 0.13020833333333331,
    "scale": 150
   },
   {
    "level": 10,
    "resolution": 0.06510416666666666,
    "scale": 75
   }
  ]
 },
 "initialExtent": {
  "xmin": 1380900.749956444,
  "ymin": 535604.2498668134,
  "xmax": 1430181.999956444,
  "ymax": 563697.9998668134,
  "spatialReference": {
   "wkid": 102685,
   "latestWkid": 2248
  }
 },
 "fullExtent": {
  "xmin": 1389529.7953,
  "ymin": 536188.125305,
  "xmax": 1421748.54953,
  "ymax": 562531.875305,
  "spatialReference": {
   "wkid": 102685,
   "latestWkid": 2248
  }
 },
 "minScale": 36000,
 "maxScale": 75,
 "units": "esriFeet",
 "supportedImageFormatTypes": "PNG32,PNG24,PNG,JPG,DIB,TIFF,EMF,PS,PDF,GIF,SVG,SVGZ,BMP",
 "documentInfo": {
  "Title": "",
  "Author": "",
  "Comments": "BWI 3in imagery flown and produced by Quantum Spatial Nov 2018",
  "Subject": "BWI 3in imagery flown and produced by Quantum Spatial Nov 2018",
  "Category": "",
  "AntialiasingMode": "None",
  "TextAntialiasingMode": "Force",
  "Keywords": "BWI"
 },
 "capabilities": "Map",
 "supportedQueryFormats": "JSON, geoJSON",
 "exportTilesAllowed": false,
 "referenceScale": 0,
 "supportsDatumTransformation": true,
 "maxRecordCount": 1000,
 "maxImageHeight": 4096,
 "maxImageWidth": 4096,
 "supportedExtensions": "",
 "resampling": false
}
