{
 "currentVersion": 11.3,
 "cimVersion": "3.3.0",
 "serviceDescription": "Nearmap 3in Spring 2023",
 "mapName": "MTN_2023_Imagery",
 "description": "MTN Imagery collected Oct/Nov of 2018 flown and processed by Quantum Spatial",
 "copyrightText": "",
 "supportsDynamicLayers": true,
 "layers": [
  {
   "id": 0,
   "name": "Orthos",
   "parentLayerId": -1,
   "defaultVisibility": true,
   "subLayerIds": [
    1,
    2,
    3
   ],
   "minScale": 0,
   "maxScale": 0,
   "type": "Mosaic Layer",
   "supportsDynamicLegends": false
  },
  {
   "id": 1,
   "name": "Boundary",
   "parentLayerId": 0,
   "defaultVisibility": false,
   "subLayerIds": null,
   "minScale": 0,
   "maxScale": 0,
   "type": "Feature Layer",
   "geometryType": "esriGeometryPolygon",
   "supportsDynamicLegends": true
  },
  {
   "id": 2,
   "name": "Footprint",
   "parentLayerId": 0,
   "defaultVisibility": false,
   "subLayerIds": null,
   "minScale": 0,
   "maxScale": 0,
   "type": "Feature Layer",
   "geometryType": "esriGeometryPolygon",
   "supportsDynamicLegends": true
  },
  {
   "id": 3,
   "name": "Image",
   "parentLayerId": 0,
   "defaultVisibility": true,
   "subLayerIds": null,
   "minScale": 0,
   "maxScale": 0,
   "type": "Raster Layer",
   "supportsDynamicLegends": true
  }
 ],
 "tables": [],
 "spatialReference": {
  "wkid": 102685,
  "latestWkid": 2248,
  "xyTolerance": 0.003280833333333333,
  "zTolerance": 0.001,
  "mTolerance": 0.001,
  "falseX": -120561100,
  "falseY": -95444400,
  "xyUnits": 3.695308229454812E7,
  "falseZ": -100000,
  "zUnits": 10000,
  "falseM": -100000,
  "mUnits": 10000
 },
 "singleFusedMapCache": true,
 "tileInfo": {
  "rows": 256,
  "cols": 256,
  "dpi": 96,
  "format": "JPEG",
  "compressionQuality": 75,
  "origin": {
   "x": -1.3274803090285435E8,
   "y": 1.642046393319654E8
  },
  "spatialReference": {
   "wkid": 102685,
   "latestWkid": 2248,
   "vcsWkid": 105703,
   "latestVcsWkid": 6360,
   "xyTolerance": 0.003280833333333333,
   "zTolerance": 0.003280833333333333,
   "mTolerance": 0.001,
   "falseX": -1.3274803090285435E8,
   "falseY": -1.0391608914041002E8,
   "xyUnits": 3.359381912043778E7,
   "falseZ": -100000,
   "zUnits": 3048.0060960121923,
   "falseM": -100000,
   "mUnits": 10000
  },
  "lods": [
   {
    "level": 0,
    "resolution": 31.25,
    "scale": 36000
   },
   {
    "level": 1,
    "resolution": 20.833333333333332,
    "scale": 24000
   },
   {
    "level": 2,
    "resolution": 15.625,
    "scale": 18000
   },
   {
    "level": 3,
    "resolution": 7.8125,
    "scale": 9000
   },
   {
    "level": 4,
    "resolution": 3.9930555555555554,
    "scale": 4600
   },
   {
    "level": 5,
    "resolution": 2.083333333333333,
    "scale": 2400
   },
   {
    "level": 6,
    "resolution": 1.0416666666666665,
    "scale": 1200
   },
   {
    "level": 7,
    "resolution": 0.5208333333333333,
    "scale": 600
   },
   {
    "level": 8,
    "resolution": 0.26041666666666663,
    "scale": 300
   },
   {
    "level": 9,
    "resolution": 0.13020833333333331,
    "scale": 150
   },
   {
    "level": 10,
    "resolution": 0.06510416666666666,
    "scale": 75
   }
  ]
 },
 "storageInfo": {
  "storageFormat": "esriMapCacheStorageModeCompactV2",
  "packetSize": 128
 },
 "initialExtent": {
  "xmin": 1452483.7112522465,
  "ymin": 590306.7532676634,
  "xmax": 1501639.9612522465,
  "ymax": 616213.0032676634,
  "spatialReference": {
   "wkid": 102685,
   "latestWkid": 2248,
   "xyTolerance": 0.003280833333333333,
   "zTolerance": 0.001,
   "mTolerance": 0.001,
   "falseX": -120561100,
   "falseY": -95444400,
   "xyUnits": 3.695308229454812E7,
   "falseZ": -100000,
   "zUnits": 10000,
   "falseM": -100000,
   "mUnits": 10000
  }
 },
 "fullExtent": {
  "xmin": 1468819.1089531286,
  "ymin": 592583.0806037822,
  "xmax": 1485195.101594339,
  "ymax": 613411.2585378218,
  "spatialReference": {
   "wkid": 102685,
   "latestWkid": 2248,
   "xyTolerance": 0.003280833333333333,
   "zTolerance": 0.001,
   "mTolerance": 0.001,
   "falseX": -120561100,
   "falseY": -95444400,
   "xyUnits": 3.695308229454812E7,
   "falseZ": -100000,
   "zUnits": 10000,
   "falseM": -100000,
   "mUnits": 10000
  }
 },
 "datesInUnknownTimezone": false,
 "minScale": 36000,
 "maxScale": 75,
 "units": "esriFeet",
 "supportedImageFormatTypes": "PNG32,PNG24,PNG,JPG,DIB,TIFF,EMF,PS,PDF,GIF,SVG,SVGZ,BMP",
 "documentInfo": {
  "Title": "MTN_2021_Imagery.aprx",
  "Author": "",
  "Comments": "MTN Imagery collected Oct/Nov of 2018 flown and processed by Quantum Spatial",
  "Subject": "MTN Imagery",
  "Category": "",
  "Version": "2.9.0",
  "AntialiasingMode": "Fast",
  "TextAntialiasingMode": "Force",
  "Keywords": "MTN,Imagery,Basemap,2023"
 },
 "supportsQueryDomains": true,
 "capabilities": "Map",
 "supportedQueryFormats": "JSON, geoJSON, PBF",
 "exportTilesAllowed": false,
 "referenceScale": 0.0,
 "supportsDatumTransformation": true,
 "archivingInfo": {
  "supportsHistoricMoment": false
 },
 "supportsClipping": true,
 "supportsSpatialFilter": true,
 "supportsTimeRelation": true,
 "supportsQueryDataElements": true,
 "mapUnits": {
  "uwkid": 9003
 },
 "maxRecordCount": 2000,
 "maxImageHeight": 4096,
 "maxImageWidth": 4096,
 "supportedExtensions": "",
 "resampling": false,
 "serviceItemId": "c497ceaf3a104a5284de732f12e42159"
}
